BEGIN:VCALENDAR
VERSION:2.0
PRODID:icalendar-ruby
CALSCALE:GREGORIAN
METHOD:PUBLISH
BEGIN:VEVENT
DTSTAMP:20260424T025127Z
UID:6-412225@stpauluccom.com
DTSTART:20260809T141500Z
DTEND:20260810T031500Z
CLASS:PUBLIC
CREATED:20260423T191257
DESCRIPTION:Bible study at St. Paul UCC - Old Monroe is a meaningful opport
 unity to connect with others and dive deeper into God’s Word. It’s a w
 elcoming space where we explore scripture\, discuss its teachings\, and gr
 ow in faith together. Each session offers fresh insights and fosters spiri
 tual growth\, encouraging participants to apply biblical wisdom to their d
 aily lives.\nThe Book/Bible Study group will continue our session on the l
 ectionary readings for the week\, engaging with passages that resonate wit
 h the themes of the season. Whether you're a lifelong believer or new to t
 he faith\, you’ll find a place where questions are embraced\, reflection
 s are shared\, and learning is enriched by fellowship.\nWe invite you to j
 oin us as we journey through scripture\, gaining inspiration and understan
 ding along the way.
LAST-MODIFIED:20260423T191257
LOCATION:903 Meier Rd Old Monroe\, MO\, 63369
SUMMARY:Bible Study
URL;VALUE=URI:https://stpauluccom.com/events/bible-study/2026-08-09
ATTACH;FILENAME=smallgroups-25.jpg;FMTTYPE=image/jpeg:https://dq5pwpg1q8ru0
 .cloudfront.net/2025/03/21/23/58/41/a8e6841f-b575-4fcc-96e8-aee8b4813b78/s
 mallgroups-25.jpg
END:VEVENT
END:VCALENDAR
